BEGIN:VCALENDAR
VERSION:2.0
PRODID:icalendar-ruby
CALSCALE:GREGORIAN
METHOD:PUBLISH
BEGIN:VEVENT
DTSTAMP:20260422T081026Z
UID:100-1986242@enoreebaptist.tithelysetup2.com
DTSTART:20261021T213000Z
DTEND:20261021T223000Z
CLASS:PUBLIC
CREATED:20260421T201411
DESCRIPTION:If you love music\, come join the Junior Choir!\nStay for Ekids
 \, Youth Group and Adult Study with Pastor Dale at 6:30p! There's somethin
 g for the whole family!
LAST-MODIFIED:20260421T201411
LOCATION:Building A - Upstairs
SUMMARY:EBC Junior Choir
URL;VALUE=URI:https://enoreebaptist.tithelysetup2.com/events/ebc-junior-cho
 ir/2026-10-21
ATTACH;FILENAME=Junior Church Slide NEW TIME OCTOBER 1.png;FMTTYPE=image/pn
 g:https://dq5pwpg1q8ru0.cloudfront.net/2023/10/02/07/33/45/93e04ae8-5fa8-4
 fec-a61a-7f56572911ad/Junior%20Church%20Slide%20NEW%20TIME%20OCTOBER%201.p
 ng
END:VEVENT
END:VCALENDAR
